BEGIN:VCALENDAR
VERSION:2.0
PRODID:-//Minnesota North College.//iCal 1.0//EN
CALSCALE:GREGORIAN
BEGIN:VTIMEZONE
TZID:America/Chicago
BEGIN:STANDARD
DTSTART:19710101T020000
TZOFFSETFROM:-0500
TZOFFSETTO:-0600
TZNAME:CST
END:STANDARD
END:VTIMEZONE
BEGIN:VEVENT
UID:69e72bf6bdfdb
DTSTAMP:20260421T074910Z
DTSTART;TZID=America/Chicago:20251009T154500
DTEND;TZID=America/Chicago:20251009T164500
SUMMARY:Pi Run/Walk - Itasca
LOCATION:Itasca
DESCRIPTION:Join us for a pi trail run (mi) or walk (km) at Minnesota North College - Itasca Campus!
END:VEVENT
END:VCALENDAR
