BEGIN:VCALENDAR
VERSION:2.0
PRODID:-//Minnesota North College.//iCal 1.0//EN
CALSCALE:GREGORIAN
BEGIN:VTIMEZONE
TZID:America/Chicago
BEGIN:STANDARD
DTSTART:19710101T020000
TZOFFSETFROM:-0500
TZOFFSETTO:-0600
TZNAME:CST
END:STANDARD
END:VTIMEZONE
BEGIN:VEVENT
UID:69e745913b01c
DTSTAMP:20260421T093825Z
DTSTART;TZID=America/Chicago:20251006T190000
DTEND;TZID=America/Chicago:20251006T200000
SUMMARY:Minnesota North Itasca Campus to host Banned Books Event
LOCATION:Itasca
DESCRIPTION:
END:VEVENT
END:VCALENDAR
