BEGIN:VCALENDAR
VERSION:2.0
PRODID:-//Minnesota North College.//iCal 1.0//EN
CALSCALE:GREGORIAN
BEGIN:VTIMEZONE
TZID:America/Chicago
BEGIN:STANDARD
DTSTART:19710101T020000
TZOFFSETFROM:-0500
TZOFFSETTO:-0600
TZNAME:CST
END:STANDARD
END:VTIMEZONE
BEGIN:VEVENT
UID:69e72a6b9947f
DTSTAMP:20260421T074235Z
DTSTART;TZID=America/Chicago:20251106T160000
DTEND;TZID=America/Chicago:20251106T170000
SUMMARY:Iron Range Engineering Open House
LOCATION:Mesabi Range - Virginia
DESCRIPTION:
END:VEVENT
END:VCALENDAR
