BEGIN:VCALENDAR
VERSION:2.0
PRODID:-//Minnesota North College.//iCal 1.0//EN
CALSCALE:GREGORIAN
BEGIN:VTIMEZONE
TZID:America/Chicago
BEGIN:STANDARD
DTSTART:19710101T020000
TZOFFSETFROM:-0500
TZOFFSETTO:-0600
TZNAME:CST
END:STANDARD
END:VTIMEZONE
BEGIN:VEVENT
UID:69e6dca135584
DTSTAMP:20260421T021041Z
DTSTART;TZID=America/Chicago:20251118T090000
DTEND;TZID=America/Chicago:20251118T100000
SUMMARY:Eveleth Campus Skills and Knowledge Fair
LOCATION:Mesabi Range - Eveleth
DESCRIPTION:Discover Your Future – Hands-On Learning for Every Interest! 
END:VEVENT
END:VCALENDAR
